BEGIN:VCALENDAR
VERSION:2.0
PRODID:-//Roadcycling DE - ECPv6.12.0.1//NONSGML v1.0//EN
CALSCALE:GREGORIAN
METHOD:PUBLISH
X-ORIGINAL-URL:https://roadcycling.de
X-WR-CALDESC:Veranstaltungen für Roadcycling DE
REFRESH-INTERVAL;VALUE=DURATION:PT1H
X-Robots-Tag:noindex
X-PUBLISHED-TTL:PT1H
BEGIN:VTIMEZONE
TZID:Europe/Berlin
BEGIN:DAYLIGHT
TZOFFSETFROM:+0100
TZOFFSETTO:+0200
TZNAME:CEST
DTSTART:20250330T010000
END:DAYLIGHT
BEGIN:STANDARD
TZOFFSETFROM:+0200
TZOFFSETTO:+0100
TZNAME:CET
DTSTART:20251026T010000
END:STANDARD
END:VTIMEZONE
BEGIN:VEVENT
DTSTART;VALUE=DATE:20250621
DTEND;VALUE=DATE:20250622
DTSTAMP:20260421T143243
CREATED:20250619T111602Z
LAST-MODIFIED:20250619T111602Z
UID:10000004-1750464000-1750550399@roadcycling.de
SUMMARY:Red Bull Traffic Lights 2025: Am 21. Juni 2025
DESCRIPTION:Red Bull Traffic Lights – Infos\nAsphalt\, Adrenalin und jede Menge Action: Am 21. Juni verwandelt sich der Mainkai in Frankfurt in eine spektakuläre Rennstrecke. Beim Red Bull Traffic Lights treten 200 Fahrer:innen mitten in der Innenstadt gegeneinander an – mit Ampelstarts\, City-Vibes und maximaler Spannung. Das neue Rennformat verspricht nicht nur Hochgeschwindigkeit\, sondern auch Taktik pur. Ein urbanes Bike-Event\, das Frankfurt in eine Hochburg des Radsports verwandelt. \n\nWo? Frankfurt am Main.\nWas? Ein völlig neuartiges Radrennen mit Kultcharakter.\nWann? Samstag\, 21. Juni 2025.\n\nMehr Infos hier!
URL:https://roadcycling.de/kalender/red-bull-traffic-lights-2025-am-21-juni-2025
LOCATION:Mainkai\, Mainkai\, Frankfurt am Main
CATEGORIES:Rennen
ATTACH;FMTTYPE=image/jpeg:https://s3-eu-west-1.amazonaws.com/assets.pukit.de/roadcyclingde/wp-content/uploads/2025/05/RedBullTrafficLights-cTristanAfre.jpg
END:VEVENT
END:VCALENDAR